BEGIN:VCALENDAR
VERSION:2.0
PRODID:-//Tukios.com/
BEGIN:VEVENT
UID:54482e5b-145e-4b0e-87c4-b36508919d5c@www.keohane.com
DTSTAMP:20260420T210632Z
DTSTART:20260426T200000Z
DTEND:20260426T230000Z
SUMMARY:Visitation
DESCRIPTION:
URL:https://www.keohane.com/obituaries/ann-barrett
LOCATION: 40 Sea Street  Weymouth MA 02191
GEO:42.2419043;-70.9462627
END:VEVENT
END:VCALENDAR