BEGIN:VCALENDAR
VERSION:2.0
PRODID:-//Tukios.com/
BEGIN:VEVENT
UID:ae82137d-6340-4c84-b66a-22f0ee6f1fde@www.keohane.com
DTSTAMP:20260420T210740Z
DTSTART:20260427T134500Z
DTEND:20260427T144500Z
SUMMARY:Celebration of Life
DESCRIPTION:
URL:https://www.keohane.com/obituaries/ann-barrett
LOCATION: 40 Sea Street  Weymouth MA 02191
GEO:42.2419043;-70.9462627
END:VEVENT
END:VCALENDAR