BEGIN:VCALENDAR
VERSION:2.0
PRODID:-//Tukios.com/
BEGIN:VEVENT
UID:15ff9e77-33f2-4624-a49d-c9596cfe2cf9@www.keohane.com
DTSTAMP:20260420T220841Z
DTSTART:20260530T180000Z
DTEND:20260530T190000Z
SUMMARY:Memorial Service
DESCRIPTION:
URL:https://www.keohane.com/obituaries/david-beynon
LOCATION:Old South Union Church 25 Columbian Street  Weymouth MA 02190
GEO:42.175439;-70.951315
END:VEVENT
END:VCALENDAR