BEGIN:VCALENDAR
VERSION:2.0
PRODID:-//Tukios.com/
BEGIN:VEVENT
UID:24360707-4568-4546-a939-35d10424e5e8@www.keohane.com
DTSTAMP:20260422T170310Z
DTSTART:20260427T200000Z
DTEND:20260427T220000Z
SUMMARY:Visitation
DESCRIPTION:
URL:https://www.keohane.com/obituaries/gloria-mooney
LOCATION:Pyne Keohane Funeral Home 21 Emerald Street  Hingham MA 02043
GEO:42.2373239;-70.8894047
END:VEVENT
END:VCALENDAR