BEGIN:VCALENDAR
VERSION:2.0
PRODID:-//Tukios.com/
BEGIN:VEVENT
UID:de345a27-6edb-49b4-978b-5a1558a445cb@www.keohane.com
DTSTAMP:20260422T170438Z
DTSTART:20260428T130000Z
DTEND:20260428T140000Z
SUMMARY:Celebration of Life
DESCRIPTION:
URL:https://www.keohane.com/obituaries/gloria-mooney
LOCATION:Pyne Keohane Funeral Home 21 Emerald Street  Hingham MA 02043
GEO:42.2373239;-70.8894047
END:VEVENT
END:VCALENDAR