BEGIN:VCALENDAR
VERSION:2.0
PRODID:-//Tukios.com/
BEGIN:VEVENT
UID:85d592a0-f07d-4f80-a737-7d27835c2f7f@www.keohane.com
DTSTAMP:20260422T165826Z
DTSTART:20260428T140000Z
DTEND:20260428T150000Z
SUMMARY:Mass
DESCRIPTION:
URL:https://www.keohane.com/obituaries/gloria-mooney
LOCATION:St. Mary’s Parish in St. Ann’s Church 208 Samoset Avenue  
	Hull MA 02045
GEO:42.2915772;-70.8772588
END:VEVENT
END:VCALENDAR