BEGIN:VCALENDAR
VERSION:2.0
PRODID:-//Tukios.com/
BEGIN:VEVENT
UID:b8438058-8415-4ae1-9c8f-b32a374ddfa5@www.keohane.com
DTSTAMP:20260422T170131Z
DTSTART:20260428T164500Z
DTEND:20260428T170000Z
SUMMARY:Burial
DESCRIPTION:
URL:https://www.keohane.com/obituaries/gloria-mooney
LOCATION:Massachusetts National Cemetery Connery Ave  Bourne MA 02542
GEO:41.6716573;-70.5697158
END:VEVENT
END:VCALENDAR