BEGIN:VCALENDAR
VERSION:2.0
PRODID:-//Tukios.com/
BEGIN:VEVENT
UID:552772d6-e659-42ca-8ddb-8099dd1d0195@www.keohane.com
DTSTAMP:20260424T193929Z
DTSTART:20260504T200000Z
DTEND:20260505T000000Z
SUMMARY:Visitation
DESCRIPTION:
URL:https://www.keohane.com/obituaries/joseph-mcgough
LOCATION:Keohane Funeral Home 785 Hancock Street  Quincy MA 02170
GEO:42.2643791;-71.0134215
END:VEVENT
END:VCALENDAR