BEGIN:VCALENDAR
VERSION:2.0
PRODID:-//Tukios.com/
BEGIN:VEVENT
UID:0d90d5d3-3c51-4c01-9986-1190c1856253@www.keohane.com
DTSTAMP:20260424T193523Z
DTSTART:20260505T150000Z
DTEND:20260505T160000Z
SUMMARY:Funeral Service
DESCRIPTION:
URL:https://www.keohane.com/obituaries/joseph-mcgough
LOCATION:Keohane Funeral Home 785 Hancock Street  Quincy MA 02170
GEO:42.2643791;-71.0134215
END:VEVENT
END:VCALENDAR