BEGIN:VCALENDAR
VERSION:2.0
PRODID:-//Tukios.com/
BEGIN:VEVENT
UID:52108c2f-dc5d-4f1c-b0d5-9b88b583324e@www.keohane.com
DTSTAMP:20260424T193904Z
DTSTART:20260505T160000Z
DTEND:20260505T170000Z
SUMMARY:Burial
DESCRIPTION:
URL:https://www.keohane.com/obituaries/joseph-mcgough
LOCATION: 835 Willard Street  Quincy MA 02169
GEO:42.230012;-71.0308471
END:VEVENT
END:VCALENDAR