BEGIN:VCALENDAR
VERSION:2.0
PRODID:-//Tukios.com/
BEGIN:VEVENT
UID:8f103ad2-3816-419a-b4df-0347e0882dd8@www.keohane.com
DTSTAMP:20260423T200801Z
DTSTART:20260503T180000Z
DTEND:20260503T220000Z
SUMMARY:Visitation
DESCRIPTION:
URL:https://www.keohane.com/obituaries/michael-breen
LOCATION:Keohane Funeral Home 785 Hancock Street  Quincy MA 02170
GEO:42.2643791;-71.0134215
END:VEVENT
END:VCALENDAR