BEGIN:VCALENDAR
VERSION:2.0
PRODID:-//Tukios.com/
BEGIN:VEVENT
UID:68c8da9b-4cf2-4dfa-a53f-1e3549ff05cf@www.keohane.com
DTSTAMP:20260423T200548Z
DTSTART:20260504T133000Z
DTEND:20260504T143000Z
SUMMARY:Celebration of Life
DESCRIPTION:
URL:https://www.keohane.com/obituaries/michael-breen
LOCATION:Keohane Funeral Home 785 Hancock Street  Quincy MA 02170
GEO:42.2643791;-71.0134215
END:VEVENT
END:VCALENDAR