BEGIN:VCALENDAR
VERSION:2.0
PRODID:-//Tukios.com/
BEGIN:VEVENT
UID:3f559f36-64f5-451e-83bc-1fbfe34add39@www.keohane.com
DTSTAMP:20260423T200715Z
DTSTART:20260504T143000Z
DTEND:20260504T153000Z
SUMMARY:Mass
DESCRIPTION:
URL:https://www.keohane.com/obituaries/michael-breen
LOCATION:Saint Ann Parish 757 Hancock St  Quincy MA 02170
GEO:42.2652473;-71.0139323
END:VEVENT
END:VCALENDAR