BEGIN:VCALENDAR
VERSION:2.0
PRODID:-//Tukios.com/
BEGIN:VEVENT
UID:c240088c-7ac9-4013-b3f9-127c3838bd4d@www.keohane.com
DTSTAMP:20260421T012915Z
DTSTART:20260428T130000Z
DTEND:20260428T143000Z
SUMMARY:Visitation
DESCRIPTION:
URL:https://www.keohane.com/obituaries/peter-lewis
LOCATION:Keohane Funeral Home 785 Hancock Street  Quincy MA 02170
GEO:42.2643791;-71.0134215
END:VEVENT
END:VCALENDAR