BEGIN:VCALENDAR
VERSION:2.0
PRODID:-//Tukios.com/
BEGIN:VEVENT
UID:913b4500-0c97-4118-8a7a-d14a40308b7c@www.keohane.com
DTSTAMP:20260421T012845Z
DTSTART:20260428T150000Z
DTEND:20260428T160000Z
SUMMARY:Funeral Service
DESCRIPTION:
URL:https://www.keohane.com/obituaries/peter-lewis
LOCATION: 115 Crescent Street  Quincy MA 02169
GEO:42.2464169;-71.0293709
END:VEVENT
END:VCALENDAR