BEGIN:VCALENDAR
VERSION:2.0
PRODID:-//Tukios.com/
BEGIN:VEVENT
UID:dc579469-dd77-447a-9c59-c4eb2eeda16d@www.keohane.com
DTSTAMP:20260421T012956Z
DTSTART:20260428T163000Z
DTEND:20260428T173000Z
SUMMARY:Burial
DESCRIPTION:
URL:https://www.keohane.com/obituaries/peter-lewis
LOCATION: 835 Willard Street  Quincy MA 02169
GEO:42.230012;-71.0308471
END:VEVENT
END:VCALENDAR