BEGIN:VCALENDAR
VERSION:2.0
PRODID:-//Tukios.com/
BEGIN:VEVENT
UID:79a26126-da28-4c32-a5d8-eddb08ba31b3@www.keohane.com
DTSTAMP:20260423T155340Z
DTSTART:20260426T180000Z
DTEND:20260426T210000Z
SUMMARY:Visitation
DESCRIPTION:
URL:https://www.keohane.com/obituaries/samuel-berte
LOCATION: 809 Main Street South  Weymouth MA 02190
GEO:42.1776448;-70.9562717
END:VEVENT
END:VCALENDAR