BEGIN:VCALENDAR
VERSION:2.0
PRODID:-//Tukios.com/
BEGIN:VEVENT
UID:94fd828a-4295-4d99-88f3-3288bb0e5f75@www.keohane.com
DTSTAMP:20260423T155334Z
DTSTART:20260427T133000Z
DTEND:20260427T143000Z
SUMMARY:Celebration of Life
DESCRIPTION:
URL:https://www.keohane.com/obituaries/samuel-berte
LOCATION: 809 Main Street South  Weymouth MA 02190
GEO:42.1776448;-70.9562717
END:VEVENT
END:VCALENDAR