BEGIN:VCALENDAR
VERSION:2.0
PRODID:-//Tukios.com/
BEGIN:VEVENT
UID:64be4cec-841c-4d0e-85c1-eee669755558@www.keohane.com
DTSTAMP:20260423T154750Z
DTSTART:20260427T143000Z
DTEND:20260427T153000Z
SUMMARY:Mass
DESCRIPTION:
URL:https://www.keohane.com/obituaries/samuel-berte
LOCATION: 72 Washington Street  Weymouth MA 02188
GEO:42.2193358;-70.9671719
END:VEVENT
END:VCALENDAR