BEGIN:VCALENDAR
VERSION:2.0
PRODID:-//Tukios.com/
BEGIN:VEVENT
UID:0239e508-79c6-4eee-b16e-aadaeb3590df@www.keohane.com
DTSTAMP:20260423T154907Z
DTSTART:20260427T154500Z
DTEND:20260427T164500Z
SUMMARY:Burial
DESCRIPTION:
URL:https://www.keohane.com/obituaries/samuel-berte
LOCATION:  North Street  Weymouth MA 02191
GEO:42.239236;-70.944584
END:VEVENT
END:VCALENDAR