BEGIN:VCALENDAR
VERSION:2.0
PRODID:-//Tukios.com/
BEGIN:VEVENT
UID:9b4ab4b3-6fed-4435-882d-317025070d17@www.keohane.com
DTSTAMP:20260420T163135Z
DTSTART:20260424T160000Z
DTEND:20260424T170000Z
SUMMARY:Funeral Service
DESCRIPTION:
URL:https://www.keohane.com/obituaries/sean-dillon
LOCATION: 809 Main Street  Weymouth MA 02190
GEO:42.1776448;-70.9562717
END:VEVENT
END:VCALENDAR