BEGIN:VCALENDAR
VERSION:2.0
PRODID:-//Tukios.com/
BEGIN:VEVENT
UID:2a320437-b08e-41f0-8d97-871e330f856b@www.keohane.com
DTSTAMP:20260419T203151Z
DTSTART:20260423T210000Z
DTEND:20260424T000000Z
SUMMARY:Visitation
DESCRIPTION:
URL:https://www.keohane.com/obituaries/viktorija-kveraga
LOCATION:Keohane Funeral Home 785 Hancock Street  Quincy MA 02170
GEO:42.2643791;-71.0134215
END:VEVENT
END:VCALENDAR