BEGIN:VCALENDAR
VERSION:2.0
PRODID:-//Tukios.com/
BEGIN:VEVENT
UID:7dc63ee2-793c-4bff-86ba-f4fedca4c4ac@www.keohane.com
DTSTAMP:20260419T203033Z
DTSTART:20260425T153000Z
DTEND:20260425T163000Z
SUMMARY:Burial
DESCRIPTION:
URL:https://www.keohane.com/obituaries/viktorija-kveraga
LOCATION:St. Joseph's Cemetery 2101 Poquonock Ave (Rt. 75)  Windsor CT 
	06095
GEO:41.9135764;-72.6768321
END:VEVENT
END:VCALENDAR